BEGIN:VCALENDAR
VERSION:2.0
PRODID:-//CPAServicesPanamá - ECPv6.15.20//NONSGML v1.0//EN
CALSCALE:GREGORIAN
METHOD:PUBLISH
X-ORIGINAL-URL:https://cpaservicespanama.com
X-WR-CALDESC:Eventos para CPAServicesPanamá
REFRESH-INTERVAL;VALUE=DURATION:PT1H
X-Robots-Tag:noindex
X-PUBLISHED-TTL:PT1H
BEGIN:VTIMEZONE
TZID:America/Panama
BEGIN:STANDARD
TZOFFSETFROM:-0500
TZOFFSETTO:-0500
TZNAME:EST
DTSTART:20250101T000000
END:STANDARD
END:VTIMEZONE
BEGIN:VEVENT
DTSTART;VALUE=DATE:20260815
DTEND;VALUE=DATE:20260816
DTSTAMP:20260423T164232
CREATED:20230101T140001Z
LAST-MODIFIED:20251010T021301Z
UID:3602-1786752000-1786838399@cpaservicespanama.com
SUMMARY:Timbres
DESCRIPTION:DESCRIPCIÓN: \nDeclaración y pago de los ingresos del mes anterior\, no gravados con ITBMS. \nACCIÓN: \nDeclarar y pagar.
URL:https://cpaservicespanama.com/event/timbres-08/
CATEGORIES:Dirección General de Ingresos (DGI)
ATTACH;FMTTYPE=image/png:https://cpaservicespanama.com/wp-content/uploads/2023/01/DGI-Logo.png
END:VEVENT
BEGIN:VEVENT
DTSTART;VALUE=DATE:20260815
DTEND;VALUE=DATE:20260816
DTSTAMP:20260423T164232
CREATED:20230101T140029Z
LAST-MODIFIED:20251010T021321Z
UID:3566-1786752000-1786838399@cpaservicespanama.com
SUMMARY:I.T.B.M.S. (mensual)
DESCRIPTION:DESCRIPCIÓN: \nDeclaración y pago de los ingresos y compras del mes anterior de los contribuyentes de ITBMS. Pago del impuesto neto. \nACCIÓN: \nDeclarar y pagar.
URL:https://cpaservicespanama.com/event/itbms-mensual-08/
CATEGORIES:Dirección General de Ingresos (DGI)
ATTACH;FMTTYPE=image/png:https://cpaservicespanama.com/wp-content/uploads/2023/01/DGI-Logo.png
END:VEVENT
BEGIN:VEVENT
DTSTART;VALUE=DATE:20260831
DTEND;VALUE=DATE:20260901
DTSTAMP:20260423T164232
CREATED:20230101T140010Z
LAST-MODIFIED:20251010T021340Z
UID:3729-1788134400-1788220799@cpaservicespanama.com
SUMMARY:Informe de Contribuyentes No Declarantes
DESCRIPTION:DESCRIPCIÓN: \nDeclaración mensual de las obligaciones tributarias que aplican a los contribuyentes no declarantes. \nACCIÓN: \nDeclarar.
URL:https://cpaservicespanama.com/event/informe-de-contribuyentes-no-declarantes-08/
CATEGORIES:Dirección General de Ingresos (DGI)
ATTACH;FMTTYPE=image/png:https://cpaservicespanama.com/wp-content/uploads/2023/01/DGI-Logo.png
END:VEVENT
BEGIN:VEVENT
DTSTART;VALUE=DATE:20260831
DTEND;VALUE=DATE:20260901
DTSTAMP:20260423T164232
CREATED:20230101T140022Z
LAST-MODIFIED:20251010T021402Z
UID:3824-1788134400-1788220799@cpaservicespanama.com
SUMMARY:Planilla (mensual)
DESCRIPTION:DESCRIPCIÓN: \nDeclaración y pago del reporte de la planilla del mes anterior en el Sistema SIPE. Pago Obrero-Patronal. \nACCIÓN: \nDeclarar y pagar.
URL:https://cpaservicespanama.com/event/planilla-mensual-08/
CATEGORIES:Caja de Seguro Social (CSS)
ATTACH;FMTTYPE=image/png:https://cpaservicespanama.com/wp-content/uploads/2023/01/CSS-Logo.png
END:VEVENT
BEGIN:VEVENT
DTSTART;VALUE=DATE:20260831
DTEND;VALUE=DATE:20260901
DTSTAMP:20260423T164232
CREATED:20230101T140025Z
LAST-MODIFIED:20251010T021425Z
UID:3758-1788134400-1788220799@cpaservicespanama.com
SUMMARY:Impuesto de Inmueble (II cuatrimestre)
DESCRIPTION:DESCRIPCIÓN: \nPago del impuesto de inmueble sobre el valor catastral de bienes inmuebles. \nACCIÓN: \nPagar.
URL:https://cpaservicespanama.com/event/impuesto-de-inmueble-ii-cuatrimestre-02/
CATEGORIES:Dirección General de Ingresos (DGI)
ATTACH;FMTTYPE=image/png:https://cpaservicespanama.com/wp-content/uploads/2023/01/DGI-Logo.png
END:VEVENT
BEGIN:VEVENT
DTSTART;VALUE=DATE:20260831
DTEND;VALUE=DATE:20260901
DTSTAMP:20260423T164232
CREATED:20230101T140035Z
LAST-MODIFIED:20251010T021448Z
UID:3633-1788134400-1788220799@cpaservicespanama.com
SUMMARY:Informe F-03 (Planilla)
DESCRIPTION:DESCRIPCIÓN: \nDeclaración de información de la planilla reportada a la CSS del tercer mes anterior. Aplica para los contribuyentes que sean patronos de la CSS. \nACCIÓN: \nDeclarar.
URL:https://cpaservicespanama.com/event/informe-f03-planilla-08/
CATEGORIES:Dirección General de Ingresos (DGI)
ATTACH;FMTTYPE=image/png:https://cpaservicespanama.com/wp-content/uploads/2023/01/DGI-Logo.png
END:VEVENT
BEGIN:VEVENT
DTSTART;VALUE=DATE:20260831
DTEND;VALUE=DATE:20260901
DTSTAMP:20260423T164232
CREATED:20230101T140042Z
LAST-MODIFIED:20251010T021509Z
UID:3794-1788134400-1788220799@cpaservicespanama.com
SUMMARY:Impuesto Actividad Comercial (mensual)
DESCRIPTION:DESCRIPCIÓN: \nPago del impuesto mensual de tributos por actividad comercial. \nACCIÓN: \nPagar.
URL:https://cpaservicespanama.com/event/impuesto-actividad-comercial-mensual-08/
CATEGORIES:Municipio de Panamá (MUPA)
ATTACH;FMTTYPE=image/png:https://cpaservicespanama.com/wp-content/uploads/2023/01/MUPA-Logo.png
END:VEVENT
BEGIN:VEVENT
DTSTART;VALUE=DATE:20260831
DTEND;VALUE=DATE:20260901
DTSTAMP:20260423T164232
CREATED:20230101T140044Z
LAST-MODIFIED:20251010T021530Z
UID:3657-1788134400-1788220799@cpaservicespanama.com
SUMMARY:Informe F-43 (Compras)
DESCRIPTION:DESCRIPCIÓN: \nDeclaración de las compras realizadas en el mes anterior. Aplica para los contribuyentes que reúnan las condiciones para presentar el Informe de Compras. \nACCIÓN: \nDeclarar.
URL:https://cpaservicespanama.com/event/informe-f43-compras-08/
CATEGORIES:Dirección General de Ingresos (DGI)
ATTACH;FMTTYPE=image/png:https://cpaservicespanama.com/wp-content/uploads/2023/01/DGI-Logo.png
END:VEVENT
BEGIN:VEVENT
DTSTART;VALUE=DATE:20260831
DTEND;VALUE=DATE:20260901
DTSTAMP:20260423T164232
CREATED:20230101T140049Z
LAST-MODIFIED:20251010T021551Z
UID:3681-1788134400-1788220799@cpaservicespanama.com
SUMMARY:Informe F-1027 (Ventas y Servicios)
DESCRIPTION:DESCRIPCIÓN: \nDeclaración de las ventas y los servicios realizados en el mes anterior. Aplica para los contribuyentes que reúnan las condiciones para presentar el Informe de Ventas. \nACCIÓN: \nDeclarar.
URL:https://cpaservicespanama.com/event/informe-f1027-ventas-y-servicios-08/
CATEGORIES:Dirección General de Ingresos (DGI)
ATTACH;FMTTYPE=image/png:https://cpaservicespanama.com/wp-content/uploads/2023/01/DGI-Logo.png
END:VEVENT
END:VCALENDAR