BEGIN:VCALENDAR
VERSION:2.0
PRODID:-//CPAServicesPanamá - ECPv6.15.20//NONSGML v1.0//EN
CALSCALE:GREGORIAN
METHOD:PUBLISH
X-WR-CALNAME:CPAServicesPanamá
X-ORIGINAL-URL:https://cpaservicespanama.com
X-WR-CALDESC:Eventos para CPAServicesPanamá
REFRESH-INTERVAL;VALUE=DURATION:PT1H
X-Robots-Tag:noindex
X-PUBLISHED-TTL:PT1H
BEGIN:VTIMEZONE
TZID:America/Panama
BEGIN:STANDARD
TZOFFSETFROM:-0500
TZOFFSETTO:-0500
TZNAME:EST
DTSTART:20250101T000000
END:STANDARD
END:VTIMEZONE
BEGIN:VEVENT
DTSTART;VALUE=DATE:20261215
DTEND;VALUE=DATE:20261216
DTSTAMP:20260424T113958
CREATED:20230101T140003Z
LAST-MODIFIED:20260102T021144Z
UID:3573-1797292800-1797379199@cpaservicespanama.com
SUMMARY:I.T.B.M.S. (mensual)
DESCRIPTION:DESCRIPCIÓN: \nDeclaración y pago de los ingresos y compras del mes anterior de los contribuyentes de ITBMS. Pago del impuesto neto. \nACCIÓN: \nDeclarar y pagar.
URL:https://cpaservicespanama.com/event/itbms-mensual-12/
CATEGORIES:Dirección General de Ingresos (DGI)
ATTACH;FMTTYPE=image/png:https://cpaservicespanama.com/wp-content/uploads/2023/01/DGI-Logo.png
END:VEVENT
BEGIN:VEVENT
DTSTART;VALUE=DATE:20261215
DTEND;VALUE=DATE:20261216
DTSTAMP:20260424T113958
CREATED:20230101T140007Z
LAST-MODIFIED:20260102T021240Z
UID:3606-1797292800-1797379199@cpaservicespanama.com
SUMMARY:Timbres
DESCRIPTION:DESCRIPCIÓN: \nDeclaración y pago de los ingresos del mes anterior\, no gravados con ITBMS. \nACCIÓN: \nDeclarar y pagar.
URL:https://cpaservicespanama.com/event/timbres-12/
CATEGORIES:Dirección General de Ingresos (DGI)
ATTACH;FMTTYPE=image/png:https://cpaservicespanama.com/wp-content/uploads/2023/01/DGI-Logo.png
END:VEVENT
BEGIN:VEVENT
DTSTART;VALUE=DATE:20261231
DTEND;VALUE=DATE:20270101
DTSTAMP:20260424T113958
CREATED:20230101T140016Z
LAST-MODIFIED:20260102T021303Z
UID:3733-1798675200-1798761599@cpaservicespanama.com
SUMMARY:Informe de Contribuyentes No Declarantes
DESCRIPTION:DESCRIPCIÓN: \nDeclaración mensual de las obligaciones tributarias que aplican a los contribuyentes no declarantes. \nACCIÓN: \nDeclarar.
URL:https://cpaservicespanama.com/event/informe-de-contribuyentes-no-declarantes-12/
CATEGORIES:Dirección General de Ingresos (DGI)
ATTACH;FMTTYPE=image/png:https://cpaservicespanama.com/wp-content/uploads/2023/01/DGI-Logo.png
END:VEVENT
BEGIN:VEVENT
DTSTART;VALUE=DATE:20261231
DTEND;VALUE=DATE:20270101
DTSTAMP:20260424T113958
CREATED:20230101T140018Z
LAST-MODIFIED:20260102T021329Z
UID:3767-1798675200-1798761599@cpaservicespanama.com
SUMMARY:Impuesto sobre la Renta Estimada (III cuota)
DESCRIPTION:DESCRIPCIÓN: \nPago del impuesto sobre la renta estimada\, generado por la presentación de la Declaración de Renta Anual\, tanto para personas naturales como jurídicas. \nACCIÓN: \nPagar.
URL:https://cpaservicespanama.com/event/impuesto-sobre-la-renta-estimada-03/
CATEGORIES:Dirección General de Ingresos (DGI)
ATTACH;FMTTYPE=image/png:https://cpaservicespanama.com/wp-content/uploads/2023/01/DGI-Logo.png
END:VEVENT
BEGIN:VEVENT
DTSTART;VALUE=DATE:20261231
DTEND;VALUE=DATE:20270101
DTSTAMP:20260424T113958
CREATED:20230101T140026Z
LAST-MODIFIED:20260102T021355Z
UID:3759-1798675200-1798761599@cpaservicespanama.com
SUMMARY:Impuesto de Inmueble (III cuatrimestre)
DESCRIPTION:DESCRIPCIÓN: \nPago del impuesto de inmueble sobre el valor catastral de bienes inmuebles. \nACCIÓN: \nPagar.
URL:https://cpaservicespanama.com/event/impuesto-de-inmueble-iii-cuatrimestre-03/
CATEGORIES:Dirección General de Ingresos (DGI)
ATTACH;FMTTYPE=image/png:https://cpaservicespanama.com/wp-content/uploads/2023/01/DGI-Logo.png
END:VEVENT
BEGIN:VEVENT
DTSTART;VALUE=DATE:20261231
DTEND;VALUE=DATE:20270101
DTSTAMP:20260424T113958
CREATED:20230101T140028Z
LAST-MODIFIED:20260102T021428Z
UID:3828-1798675200-1798761599@cpaservicespanama.com
SUMMARY:Planilla (mensual)
DESCRIPTION:DESCRIPCIÓN: \nDeclaración y pago del reporte de la planilla del mes anterior en el Sistema SIPE. Pago Obrero-Patronal. \nACCIÓN: \nDeclarar y pagar.
URL:https://cpaservicespanama.com/event/planilla-mensual-12/
CATEGORIES:Caja de Seguro Social (CSS)
ATTACH;FMTTYPE=image/png:https://cpaservicespanama.com/wp-content/uploads/2023/01/CSS-Logo.png
END:VEVENT
BEGIN:VEVENT
DTSTART;VALUE=DATE:20261231
DTEND;VALUE=DATE:20270101
DTSTAMP:20260424T113958
CREATED:20230101T140040Z
LAST-MODIFIED:20260102T021457Z
UID:3637-1798675200-1798761599@cpaservicespanama.com
SUMMARY:Informe F-03 (Planilla)
DESCRIPTION:DESCRIPCIÓN: \nDeclaración de información de la planilla reportada a la CSS del tercer mes anterior. Aplica para los contribuyentes que sean patronos de la CSS. \nACCIÓN: \nDeclarar.
URL:https://cpaservicespanama.com/event/informe-f03-planilla-12/
CATEGORIES:Dirección General de Ingresos (DGI)
ATTACH;FMTTYPE=image/png:https://cpaservicespanama.com/wp-content/uploads/2023/01/DGI-Logo.png
END:VEVENT
BEGIN:VEVENT
DTSTART;VALUE=DATE:20261231
DTEND;VALUE=DATE:20270101
DTSTAMP:20260424T113958
CREATED:20230101T140049Z
LAST-MODIFIED:20260102T021545Z
UID:3773-1798675200-1798761599@cpaservicespanama.com
SUMMARY:Impuesto Seguro Educativo (III cuota)
DESCRIPTION:DESCRIPCIÓN: \nPago del impuesto del seguro educativo\, generado por la presentación de la Declaración de Renta Anual para personas naturales. \nACCIÓN: \nPagar.
URL:https://cpaservicespanama.com/event/impuesto-seguro-educativo-03/
CATEGORIES:Dirección General de Ingresos (DGI)
ATTACH;FMTTYPE=image/png:https://cpaservicespanama.com/wp-content/uploads/2023/01/DGI-Logo.png
END:VEVENT
BEGIN:VEVENT
DTSTART;VALUE=DATE:20261231
DTEND;VALUE=DATE:20270101
DTSTAMP:20260424T113958
CREATED:20230101T140049Z
LAST-MODIFIED:20260102T021521Z
UID:3661-1798675200-1798761599@cpaservicespanama.com
SUMMARY:Informe F-43 (Compras)
DESCRIPTION:DESCRIPCIÓN: \nDeclaración de las compras realizadas en el mes anterior. Aplica para los contribuyentes que reúnan las condiciones para presentar el Informe de Compras. \nACCIÓN: \nDeclarar.
URL:https://cpaservicespanama.com/event/informe-f43-compras-12/
CATEGORIES:Dirección General de Ingresos (DGI)
ATTACH;FMTTYPE=image/png:https://cpaservicespanama.com/wp-content/uploads/2023/01/DGI-Logo.png
END:VEVENT
BEGIN:VEVENT
DTSTART;VALUE=DATE:20261231
DTEND;VALUE=DATE:20270101
DTSTAMP:20260424T113958
CREATED:20230101T140051Z
LAST-MODIFIED:20260102T021604Z
UID:3798-1798675200-1798761599@cpaservicespanama.com
SUMMARY:Impuesto Actividad Comercial (mensual)
DESCRIPTION:DESCRIPCIÓN: \nPago del impuesto mensual de tributos por actividad comercial. \nACCIÓN: \nPagar.
URL:https://cpaservicespanama.com/event/impuesto-actividad-comercial-mensual-12/
CATEGORIES:Municipio de Panamá (MUPA)
ATTACH;FMTTYPE=image/png:https://cpaservicespanama.com/wp-content/uploads/2023/01/MUPA-Logo.png
END:VEVENT
BEGIN:VEVENT
DTSTART;VALUE=DATE:20261231
DTEND;VALUE=DATE:20270101
DTSTAMP:20260424T113958
CREATED:20230101T140055Z
LAST-MODIFIED:20260102T021629Z
UID:3685-1798675200-1798761599@cpaservicespanama.com
SUMMARY:Informe F-1027 (Ventas y Servicios)
DESCRIPTION:DESCRIPCIÓN: \nDeclaración de las ventas y los servicios realizados en el mes anterior. Aplica para los contribuyentes que reúnan las condiciones para presentar el Informe de Ventas. \nACCIÓN: \nDeclarar.
URL:https://cpaservicespanama.com/event/informe-f1027-ventas-y-servicios-12/
CATEGORIES:Dirección General de Ingresos (DGI)
ATTACH;FMTTYPE=image/png:https://cpaservicespanama.com/wp-content/uploads/2023/01/DGI-Logo.png
END:VEVENT
BEGIN:VEVENT
DTSTART;VALUE=DATE:20270115
DTEND;VALUE=DATE:20270116
DTSTAMP:20260424T113958
CREATED:20230101T140027Z
LAST-MODIFIED:20260128T190944Z
UID:3507-1799971200-1800057599@cpaservicespanama.com
SUMMARY:I.T.B.M.S. (mensual)
DESCRIPTION:DESCRIPCIÓN: \nDeclaración y pago de los ingresos y compras del mes anterior de los contribuyentes de ITBMS. Pago del impuesto neto. \nACCIÓN: \nDeclarar y pagar.
URL:https://cpaservicespanama.com/event/itbms-mensual-01/
CATEGORIES:Dirección General de Ingresos (DGI)
ATTACH;FMTTYPE=image/png:https://cpaservicespanama.com/wp-content/uploads/2023/01/DGI-Logo.png
END:VEVENT
BEGIN:VEVENT
DTSTART;VALUE=DATE:20270115
DTEND;VALUE=DATE:20270116
DTSTAMP:20260424T113958
CREATED:20230101T140030Z
LAST-MODIFIED:20260128T191027Z
UID:3589-1799971200-1800057599@cpaservicespanama.com
SUMMARY:Timbres
DESCRIPTION:DESCRIPCIÓN: \nDeclaración y pago de los ingresos del mes anterior\, no gravados con ITBMS. \nACCIÓN: \nDeclarar y pagar.
URL:https://cpaservicespanama.com/event/timbres-01/
CATEGORIES:Dirección General de Ingresos (DGI)
ATTACH;FMTTYPE=image/png:https://cpaservicespanama.com/wp-content/uploads/2023/01/DGI-Logo.png
END:VEVENT
BEGIN:VEVENT
DTSTART;VALUE=DATE:20270115
DTEND;VALUE=DATE:20270116
DTSTAMP:20260424T113958
CREATED:20230101T140031Z
LAST-MODIFIED:20260128T191103Z
UID:3613-1799971200-1800057599@cpaservicespanama.com
SUMMARY:Impuesto de Tasa Única Anual
DESCRIPTION:DESCRIPCIÓN: \nPago del impuesto de tasa única anual para sociedades y fundaciones que tengan fecha de inscripción dentro del primer semestre del año inscrito. \nACCIÓN: \nPagar.
URL:https://cpaservicespanama.com/event/impuesto-de-tasa-unica-anual-01/
CATEGORIES:Dirección General de Ingresos (DGI)
ATTACH;FMTTYPE=image/png:https://cpaservicespanama.com/wp-content/uploads/2023/01/DGI-Logo.png
END:VEVENT
BEGIN:VEVENT
DTSTART;VALUE=DATE:20270115
DTEND;VALUE=DATE:20270116
DTSTAMP:20260424T113958
CREATED:20230101T140031Z
LAST-MODIFIED:20260128T191045Z
UID:3579-1799971200-1800057599@cpaservicespanama.com
SUMMARY:I.T.B.M.S. (IV trimestre)
DESCRIPTION:DESCRIPCIÓN: \nDeclaración y pago de los ingresos y compras de los tres meses anteriores de los contribuyentes de ITBMS. Pago del impuesto neto. \nACCIÓN: \nDeclarar y pagar.
URL:https://cpaservicespanama.com/event/itbms-trimestral-04/
CATEGORIES:Dirección General de Ingresos (DGI)
ATTACH;FMTTYPE=image/png:https://cpaservicespanama.com/wp-content/uploads/2023/01/DGI-Logo.png
END:VEVENT
BEGIN:VEVENT
DTSTART;VALUE=DATE:20270131
DTEND;VALUE=DATE:20270201
DTSTAMP:20260424T113958
CREATED:20230101T140000Z
LAST-MODIFIED:20260203T160823Z
UID:3722-1801353600-1801439999@cpaservicespanama.com
SUMMARY:Informe de Contribuyentes No Declarantes
DESCRIPTION:DESCRIPCIÓN: \nDeclaración mensual de las obligaciones tributarias que aplican a los contribuyentes no declarantes. \nACCIÓN: \nDeclarar.
URL:https://cpaservicespanama.com/event/informe-de-contribuyentes-no-declarantes-01/
CATEGORIES:Dirección General de Ingresos (DGI)
ATTACH;FMTTYPE=image/png:https://cpaservicespanama.com/wp-content/uploads/2023/01/DGI-Logo.png
END:VEVENT
BEGIN:VEVENT
DTSTART;VALUE=DATE:20270131
DTEND;VALUE=DATE:20270201
DTSTAMP:20260424T113958
CREATED:20230101T140002Z
LAST-MODIFIED:20260203T160853Z
UID:3777-1801353600-1801439999@cpaservicespanama.com
SUMMARY:Declaración Jurada de Ingresos Anual (I opción)
DESCRIPTION:DESCRIPCIÓN: \nDeclaración jurada de ingresos del año anterior. Aplica para los contribuyentes que se acojan al descuento por pronto pago. \nACCIÓN: \nDeclarar.
URL:https://cpaservicespanama.com/event/declaracion-jurada-de-ingresos-anual-01/
CATEGORIES:Municipio de Panamá (MUPA)
ATTACH;FMTTYPE=image/png:https://cpaservicespanama.com/wp-content/uploads/2023/01/MUPA-Logo.png
END:VEVENT
BEGIN:VEVENT
DTSTART;VALUE=DATE:20270131
DTEND;VALUE=DATE:20270201
DTSTAMP:20260424T113958
CREATED:20230101T140013Z
LAST-MODIFIED:20260203T161019Z
UID:3817-1801353600-1801439999@cpaservicespanama.com
SUMMARY:Planilla (mensual)
DESCRIPTION:DESCRIPCIÓN: \nDeclaración y pago del reporte de la planilla del mes anterior en el Sistema SIPE. Pago Obrero-Patronal. \nACCIÓN: \nDeclarar y pagar.
URL:https://cpaservicespanama.com/event/planilla-mensual-01/
CATEGORIES:Caja de Seguro Social (CSS)
ATTACH;FMTTYPE=image/png:https://cpaservicespanama.com/wp-content/uploads/2023/01/CSS-Logo.png
END:VEVENT
BEGIN:VEVENT
DTSTART;VALUE=DATE:20270131
DTEND;VALUE=DATE:20270201
DTSTAMP:20260424T113958
CREATED:20230101T140019Z
LAST-MODIFIED:20260203T160927Z
UID:3785-1801353600-1801439999@cpaservicespanama.com
SUMMARY:Impuesto Actividad Comercial (anual)
DESCRIPTION:DESCRIPCIÓN: \nPago del impuesto anual de tributos por actividad comercial.  Aplica para los contribuyentes que se acojan al descuento por pronto pago. \nACCIÓN: \nPagar.
URL:https://cpaservicespanama.com/event/impuesto-actividad-comercial-anual/
CATEGORIES:Municipio de Panamá (MUPA)
ATTACH;FMTTYPE=image/png:https://cpaservicespanama.com/wp-content/uploads/2023/01/MUPA-Logo.png
END:VEVENT
BEGIN:VEVENT
DTSTART;VALUE=DATE:20270131
DTEND;VALUE=DATE:20270201
DTSTAMP:20260424T113958
CREATED:20230101T140035Z
LAST-MODIFIED:20260203T160721Z
UID:3650-1801353600-1801439999@cpaservicespanama.com
SUMMARY:Informe F-43 (Compras)
DESCRIPTION:DESCRIPCIÓN: \nDeclaración de las compras realizadas en el mes anterior. Aplica para los contribuyentes que reúnan las condiciones para presentar el Informe de Compras. \nACCIÓN: \nDeclarar.
URL:https://cpaservicespanama.com/event/informe-f43-compras-01/
CATEGORIES:Dirección General de Ingresos (DGI)
ATTACH;FMTTYPE=image/png:https://cpaservicespanama.com/wp-content/uploads/2023/01/DGI-Logo.png
END:VEVENT
BEGIN:VEVENT
DTSTART;VALUE=DATE:20270131
DTEND;VALUE=DATE:20270201
DTSTAMP:20260424T113958
CREATED:20230101T140040Z
LAST-MODIFIED:20260203T160746Z
UID:3674-1801353600-1801439999@cpaservicespanama.com
SUMMARY:Informe F-1027 (Ventas y Servicios)
DESCRIPTION:DESCRIPCIÓN: \nDeclaración de las ventas y los servicios realizados en el mes anterior. Aplica para los contribuyentes que reúnan las condiciones para presentar el Informe de Ventas. \nACCIÓN: \nDeclarar.
URL:https://cpaservicespanama.com/event/informe-f1027-ventas-y-servicios-01/
CATEGORIES:Dirección General de Ingresos (DGI)
ATTACH;FMTTYPE=image/png:https://cpaservicespanama.com/wp-content/uploads/2023/01/DGI-Logo.png
END:VEVENT
BEGIN:VEVENT
DTSTART;VALUE=DATE:20270131
DTEND;VALUE=DATE:20270201
DTSTAMP:20260424T113958
CREATED:20230101T140054Z
LAST-MODIFIED:20260203T160955Z
UID:3787-1801353600-1801439999@cpaservicespanama.com
SUMMARY:Impuesto Actividad Comercial (mensual)
DESCRIPTION:DESCRIPCIÓN: \nPago del impuesto mensual de tributos por actividad comercial. \nACCIÓN: \nPagar.
URL:https://cpaservicespanama.com/event/impuesto-actividad-comercial-mensual-01/
CATEGORIES:Municipio de Panamá (MUPA)
ATTACH;FMTTYPE=image/png:https://cpaservicespanama.com/wp-content/uploads/2023/01/MUPA-Logo.png
END:VEVENT
BEGIN:VEVENT
DTSTART;VALUE=DATE:20270131
DTEND;VALUE=DATE:20270201
DTSTAMP:20260424T113958
CREATED:20230101T140055Z
LAST-MODIFIED:20260203T160647Z
UID:3626-1801353600-1801439999@cpaservicespanama.com
SUMMARY:Informe F-03 (Planilla)
DESCRIPTION:DESCRIPCIÓN: \nDeclaración de información de la planilla reportada a la CSS del tercer mes anterior. Aplica para los contribuyentes que sean patronos de la CSS. \nACCIÓN: \nDeclarar.
URL:https://cpaservicespanama.com/event/informe-f03-planilla-01/
CATEGORIES:Dirección General de Ingresos (DGI)
ATTACH;FMTTYPE=image/png:https://cpaservicespanama.com/wp-content/uploads/2023/01/DGI-Logo.png
END:VEVENT
BEGIN:VEVENT
DTSTART;VALUE=DATE:20270215
DTEND;VALUE=DATE:20270216
DTSTAMP:20260424T113958
CREATED:20230101T140002Z
LAST-MODIFIED:20260405T143245Z
UID:3515-1802649600-1802735999@cpaservicespanama.com
SUMMARY:I.T.B.M.S. (mensual)
DESCRIPTION:DESCRIPCIÓN: \nDeclaración y pago de los ingresos y compras del mes anterior de los contribuyentes de ITBMS. Pago del impuesto neto. \nACCIÓN: \nDeclarar y pagar.
URL:https://cpaservicespanama.com/event/itbms-mensual-02/
CATEGORIES:Dirección General de Ingresos (DGI)
ATTACH;FMTTYPE=image/png:https://cpaservicespanama.com/wp-content/uploads/2023/01/DGI-Logo.png
END:VEVENT
BEGIN:VEVENT
DTSTART;VALUE=DATE:20270215
DTEND;VALUE=DATE:20270216
DTSTAMP:20260424T113958
CREATED:20230101T140034Z
LAST-MODIFIED:20260405T143316Z
UID:3590-1802649600-1802735999@cpaservicespanama.com
SUMMARY:Timbres
DESCRIPTION:DESCRIPCIÓN: \nDeclaración y pago de los ingresos del mes anterior\, no gravados con ITBMS. \nACCIÓN: \nDeclarar y pagar.
URL:https://cpaservicespanama.com/event/timbres-02/
CATEGORIES:Dirección General de Ingresos (DGI)
ATTACH;FMTTYPE=image/png:https://cpaservicespanama.com/wp-content/uploads/2023/01/DGI-Logo.png
END:VEVENT
BEGIN:VEVENT
DTSTART;VALUE=DATE:20270228
DTEND;VALUE=DATE:20270301
DTSTAMP:20260424T113958
CREATED:20230101T140003Z
LAST-MODIFIED:20260405T143508Z
UID:3778-1803772800-1803859199@cpaservicespanama.com
SUMMARY:Declaración Jurada de Ingresos Anual (II opción)
DESCRIPTION:DESCRIPCIÓN: \nDeclaración jurada de ingresos del año anterior. No aplica el descuento por pronto pago. \nACCIÓN: \nDeclarar.
URL:https://cpaservicespanama.com/event/declaracion-jurada-de-ingresos-anual-02/
CATEGORIES:Municipio de Panamá (MUPA)
ATTACH;FMTTYPE=image/png:https://cpaservicespanama.com/wp-content/uploads/2023/01/MUPA-Logo.png
END:VEVENT
BEGIN:VEVENT
DTSTART;VALUE=DATE:20270228
DTEND;VALUE=DATE:20270301
DTSTAMP:20260424T113958
CREATED:20230101T140015Z
LAST-MODIFIED:20260405T143550Z
UID:3818-1803772800-1803859199@cpaservicespanama.com
SUMMARY:Planilla (mensual)
DESCRIPTION:DESCRIPCIÓN: \nDeclaración y pago del reporte de la planilla del mes anterior en el Sistema SIPE. Pago Obrero-Patronal. \nACCIÓN: \nDeclarar y pagar.
URL:https://cpaservicespanama.com/event/planilla-mensual-02/
CATEGORIES:Caja de Seguro Social (CSS)
ATTACH;FMTTYPE=image/png:https://cpaservicespanama.com/wp-content/uploads/2023/01/CSS-Logo.png
END:VEVENT
BEGIN:VEVENT
DTSTART;VALUE=DATE:20270228
DTEND;VALUE=DATE:20270301
DTSTAMP:20260424T113958
CREATED:20230101T140024Z
LAST-MODIFIED:20260405T143533Z
UID:3788-1803772800-1803859199@cpaservicespanama.com
SUMMARY:Impuesto Actividad Comercial (mensual)
DESCRIPTION:DESCRIPCIÓN: \nPago del impuesto mensual de tributos por actividad comercial. \nACCIÓN: \nPagar.
URL:https://cpaservicespanama.com/event/impuesto-actividad-comercial-mensual-02/
CATEGORIES:Municipio de Panamá (MUPA)
ATTACH;FMTTYPE=image/png:https://cpaservicespanama.com/wp-content/uploads/2023/01/MUPA-Logo.png
END:VEVENT
BEGIN:VEVENT
DTSTART;VALUE=DATE:20270228
DTEND;VALUE=DATE:20270301
DTSTAMP:20260424T113958
CREATED:20230101T140025Z
LAST-MODIFIED:20260405T143337Z
UID:3627-1803772800-1803859199@cpaservicespanama.com
SUMMARY:Informe F-03 (Planilla)
DESCRIPTION:DESCRIPCIÓN: \nDeclaración de información de la planilla reportada a la CSS del tercer mes anterior. Aplica para los contribuyentes que sean patronos de la CSS. \nACCIÓN: \nDeclarar.
URL:https://cpaservicespanama.com/event/informe-f03-planilla-02/
CATEGORIES:Dirección General de Ingresos (DGI)
ATTACH;FMTTYPE=image/png:https://cpaservicespanama.com/wp-content/uploads/2023/01/DGI-Logo.png
END:VEVENT
BEGIN:VEVENT
DTSTART;VALUE=DATE:20270228
DTEND;VALUE=DATE:20270301
DTSTAMP:20260424T113958
CREATED:20230101T140036Z
LAST-MODIFIED:20260405T143407Z
UID:3651-1803772800-1803859199@cpaservicespanama.com
SUMMARY:Informe F-43 (Compras)
DESCRIPTION:DESCRIPCIÓN: \nDeclaración de las compras realizadas en el mes anterior. Aplica para los contribuyentes que reúnan las condiciones para presentar el Informe de Compras. \nACCIÓN: \nDeclarar.
URL:https://cpaservicespanama.com/event/informe-f43-compras-02/
CATEGORIES:Dirección General de Ingresos (DGI)
ATTACH;FMTTYPE=image/png:https://cpaservicespanama.com/wp-content/uploads/2023/01/DGI-Logo.png
END:VEVENT
END:VCALENDAR