BEGIN:VCALENDAR
VERSION:2.0
PRODID:-//CPAServicesPanamá - ECPv6.15.20//NONSGML v1.0//EN
CALSCALE:GREGORIAN
METHOD:PUBLISH
X-WR-CALNAME:CPAServicesPanamá
X-ORIGINAL-URL:https://cpaservicespanama.com
X-WR-CALDESC:Eventos para CPAServicesPanamá
REFRESH-INTERVAL;VALUE=DURATION:PT1H
X-Robots-Tag:noindex
X-PUBLISHED-TTL:PT1H
BEGIN:VTIMEZONE
TZID:America/Panama
BEGIN:STANDARD
TZOFFSETFROM:-0500
TZOFFSETTO:-0500
TZNAME:EST
DTSTART:20250101T000000
END:STANDARD
END:VTIMEZONE
BEGIN:VEVENT
DTSTART;VALUE=DATE:20260430
DTEND;VALUE=DATE:20260501
DTSTAMP:20260423T150229
CREATED:20230101T140005Z
LAST-MODIFIED:20250709T165753Z
UID:3725-1777507200-1777593599@cpaservicespanama.com
SUMMARY:Informe de Contribuyentes No Declarantes
DESCRIPTION:DESCRIPCIÓN: \nDeclaración mensual de las obligaciones tributarias que aplican a los contribuyentes no declarantes. \nACCIÓN: \nDeclarar.
URL:https://cpaservicespanama.com/event/informe-de-contribuyentes-no-declarantes-04/
CATEGORIES:Dirección General de Ingresos (DGI)
ATTACH;FMTTYPE=image/png:https://cpaservicespanama.com/wp-content/uploads/2023/01/DGI-Logo.png
END:VEVENT
BEGIN:VEVENT
DTSTART;VALUE=DATE:20260430
DTEND;VALUE=DATE:20260501
DTSTAMP:20260423T150229
CREATED:20230101T140023Z
LAST-MODIFIED:20250709T165956Z
UID:3763-1777507200-1777593599@cpaservicespanama.com
SUMMARY:Impuesto de Inmueble (anual)
DESCRIPTION:DESCRIPCIÓN: \nPago del impuesto de inmueble sobre el valor catastral de bienes inmuebles. Con descuento por pronto pago. \nACCIÓN: \nPagar.
URL:https://cpaservicespanama.com/event/impuesto-de-inmueble-anual/
CATEGORIES:Dirección General de Ingresos (DGI)
ATTACH;FMTTYPE=image/png:https://cpaservicespanama.com/wp-content/uploads/2023/01/DGI-Logo.png
END:VEVENT
BEGIN:VEVENT
DTSTART;VALUE=DATE:20260430
DTEND;VALUE=DATE:20260501
DTSTAMP:20260423T150229
CREATED:20230101T140024Z
LAST-MODIFIED:20250709T170017Z
UID:3755-1777507200-1777593599@cpaservicespanama.com
SUMMARY:Impuesto Complementario Persona Jurídica
DESCRIPTION:DESCRIPCIÓN: \nPago del impuesto complementario generado por la presentación de la Declaración de Renta Anual de personas jurídicas. \nACCIÓN: \nPagar.
URL:https://cpaservicespanama.com/event/impuesto-complementario-persona-juridica/
CATEGORIES:Dirección General de Ingresos (DGI)
ATTACH;FMTTYPE=image/png:https://cpaservicespanama.com/wp-content/uploads/2023/01/DGI-Logo.png
END:VEVENT
BEGIN:VEVENT
DTSTART;VALUE=DATE:20260430
DTEND;VALUE=DATE:20260501
DTSTAMP:20260423T150229
CREATED:20230101T140024Z
LAST-MODIFIED:20250709T170035Z
UID:3757-1777507200-1777593599@cpaservicespanama.com
SUMMARY:Impuesto de Inmueble (I cuatrimestre)
DESCRIPTION:DESCRIPCIÓN: \nPago del impuesto de inmueble sobre el valor catastral de bienes inmuebles. \nACCIÓN: \nPagar.
URL:https://cpaservicespanama.com/event/impuesto-de-inmueble-i-cuatrimestre-01/
CATEGORIES:Dirección General de Ingresos (DGI)
ATTACH;FMTTYPE=image/png:https://cpaservicespanama.com/wp-content/uploads/2023/01/DGI-Logo.png
END:VEVENT
BEGIN:VEVENT
DTSTART;VALUE=DATE:20260430
DTEND;VALUE=DATE:20260501
DTSTAMP:20260423T150229
CREATED:20230101T140029Z
LAST-MODIFIED:20250709T170130Z
UID:3629-1777507200-1777593599@cpaservicespanama.com
SUMMARY:Informe F-03 (Planilla)
DESCRIPTION:DESCRIPCIÓN: \nDeclaración de información de la planilla reportada a la CSS del tercer mes anterior. Aplica para los contribuyentes que sean patronos de la CSS. \nACCIÓN: \nDeclarar.
URL:https://cpaservicespanama.com/event/informe-f03-planilla-04/
CATEGORIES:Dirección General de Ingresos (DGI)
ATTACH;FMTTYPE=image/png:https://cpaservicespanama.com/wp-content/uploads/2023/01/DGI-Logo.png
END:VEVENT
BEGIN:VEVENT
DTSTART;VALUE=DATE:20260430
DTEND;VALUE=DATE:20260501
DTSTAMP:20260423T150229
CREATED:20230101T140039Z
LAST-MODIFIED:20250709T170156Z
UID:3653-1777507200-1777593599@cpaservicespanama.com
SUMMARY:Informe F-43 (Compras)
DESCRIPTION:DESCRIPCIÓN: \nDeclaración de las compras realizadas en el mes anterior. Aplica para los contribuyentes que reúnan las condiciones para presentar el Informe de Compras. \nACCIÓN: \nDeclarar.
URL:https://cpaservicespanama.com/event/informe-f43-compras-04/
CATEGORIES:Dirección General de Ingresos (DGI)
ATTACH;FMTTYPE=image/png:https://cpaservicespanama.com/wp-content/uploads/2023/01/DGI-Logo.png
END:VEVENT
BEGIN:VEVENT
DTSTART;VALUE=DATE:20260430
DTEND;VALUE=DATE:20260501
DTSTAMP:20260423T150229
CREATED:20230101T140043Z
LAST-MODIFIED:20250709T170335Z
UID:3747-1777507200-1777593599@cpaservicespanama.com
SUMMARY:Declaración de Renta Jurídica Anual (extensión)
DESCRIPTION:DESCRIPCIÓN: \nDeclaración de renta correspondiente al año anterior para personas jurídicas. Con solicitud de extensión. \nACCIÓN: \nDeclarar.
URL:https://cpaservicespanama.com/event/declaracion-de-renta-juridica-anual-01a/
CATEGORIES:Dirección General de Ingresos (DGI)
ATTACH;FMTTYPE=image/png:https://cpaservicespanama.com/wp-content/uploads/2023/01/DGI-Logo.png
END:VEVENT
BEGIN:VEVENT
DTSTART;VALUE=DATE:20260430
DTEND;VALUE=DATE:20260501
DTSTAMP:20260423T150229
CREATED:20230101T140044Z
LAST-MODIFIED:20250709T170444Z
UID:3677-1777507200-1777593599@cpaservicespanama.com
SUMMARY:Informe F-1027 (Ventas y Servicios)
DESCRIPTION:DESCRIPCIÓN: \nDeclaración de las ventas y los servicios realizados en el mes anterior. Aplica para los contribuyentes que reúnan las condiciones para presentar el Informe de Ventas. \nACCIÓN: \nDeclarar.
URL:https://cpaservicespanama.com/event/informe-f1027-ventas-y-servicios-04/
CATEGORIES:Dirección General de Ingresos (DGI)
ATTACH;FMTTYPE=image/png:https://cpaservicespanama.com/wp-content/uploads/2023/01/DGI-Logo.png
END:VEVENT
END:VCALENDAR