BEGIN:VCALENDAR
VERSION:2.0
PRODID:-//CPAServicesPanamá - ECPv6.15.20//NONSGML v1.0//EN
CALSCALE:GREGORIAN
METHOD:PUBLISH
X-ORIGINAL-URL:https://cpaservicespanama.com
X-WR-CALDESC:Eventos para CPAServicesPanamá
REFRESH-INTERVAL;VALUE=DURATION:PT1H
X-Robots-Tag:noindex
X-PUBLISHED-TTL:PT1H
BEGIN:VTIMEZONE
TZID:America/Panama
BEGIN:STANDARD
TZOFFSETFROM:-0500
TZOFFSETTO:-0500
TZNAME:EST
DTSTART:20260101T000000
END:STANDARD
END:VTIMEZONE
BEGIN:VEVENT
DTSTART;VALUE=DATE:20270315
DTEND;VALUE=DATE:20270316
DTSTAMP:20260424T071228
CREATED:20230101T140008Z
LAST-MODIFIED:20260405T144027Z
UID:3539-1805068800-1805155199@cpaservicespanama.com
SUMMARY:I.T.B.M.S. (mensual)
DESCRIPTION:DESCRIPCIÓN: \nDeclaración y pago de los ingresos y compras del mes anterior de los contribuyentes de ITBMS. Pago del impuesto neto. \nACCIÓN: \nDeclarar y pagar.
URL:https://cpaservicespanama.com/event/itbms-mensual-03/
CATEGORIES:Dirección General de Ingresos (DGI)
ATTACH;FMTTYPE=image/png:https://cpaservicespanama.com/wp-content/uploads/2023/01/DGI-Logo.png
END:VEVENT
BEGIN:VEVENT
DTSTART;VALUE=DATE:20270315
DTEND;VALUE=DATE:20270316
DTSTAMP:20260424T071228
CREATED:20230101T140018Z
LAST-MODIFIED:20260405T144106Z
UID:3617-1805068800-1805155199@cpaservicespanama.com
SUMMARY:Declaración de Renta Natural Anual
DESCRIPTION:DESCRIPCIÓN: \nDeclaración de renta correspondiente al año anterior para personas naturales. \nACCIÓN: \nDeclarar.
URL:https://cpaservicespanama.com/event/declaracion-de-renta-natural-anual-01/
CATEGORIES:Dirección General de Ingresos (DGI)
ATTACH;FMTTYPE=image/png:https://cpaservicespanama.com/wp-content/uploads/2023/01/DGI-Logo.png
END:VEVENT
BEGIN:VEVENT
DTSTART;VALUE=DATE:20270315
DTEND;VALUE=DATE:20270316
DTSTAMP:20260424T071228
CREATED:20230101T140036Z
LAST-MODIFIED:20260405T144047Z
UID:3591-1805068800-1805155199@cpaservicespanama.com
SUMMARY:Timbres
DESCRIPTION:DESCRIPCIÓN: \nDeclaración y pago de los ingresos del mes anterior\, no gravados con ITBMS. \nACCIÓN: \nDeclarar y pagar.
URL:https://cpaservicespanama.com/event/timbres-03/
CATEGORIES:Dirección General de Ingresos (DGI)
ATTACH;FMTTYPE=image/png:https://cpaservicespanama.com/wp-content/uploads/2023/01/DGI-Logo.png
END:VEVENT
BEGIN:VEVENT
DTSTART;VALUE=DATE:20270331
DTEND;VALUE=DATE:20270401
DTSTAMP:20260424T071228
CREATED:20230101T140003Z
LAST-MODIFIED:20260405T144222Z
UID:3724-1806451200-1806537599@cpaservicespanama.com
SUMMARY:Informe de Contribuyentes No Declarantes
DESCRIPTION:DESCRIPCIÓN: \nDeclaración mensual de las obligaciones tributarias que aplican a los contribuyentes no declarantes. \nACCIÓN: \nDeclarar.
URL:https://cpaservicespanama.com/event/informe-de-contribuyentes-no-declarantes-03/
CATEGORIES:Dirección General de Ingresos (DGI)
ATTACH;FMTTYPE=image/png:https://cpaservicespanama.com/wp-content/uploads/2023/01/DGI-Logo.png
END:VEVENT
BEGIN:VEVENT
DTSTART;VALUE=DATE:20270331
DTEND;VALUE=DATE:20270401
DTSTAMP:20260424T071228
CREATED:20230101T140027Z
LAST-MODIFIED:20260405T144124Z
UID:3628-1806451200-1806537599@cpaservicespanama.com
SUMMARY:Informe F-03 (Planilla)
DESCRIPTION:DESCRIPCIÓN: \nDeclaración de información de la planilla reportada a la CSS del tercer mes anterior. Aplica para los contribuyentes que sean patronos de la CSS. \nACCIÓN: \nDeclarar.
URL:https://cpaservicespanama.com/event/informe-f03-planilla-03/
CATEGORIES:Dirección General de Ingresos (DGI)
ATTACH;FMTTYPE=image/png:https://cpaservicespanama.com/wp-content/uploads/2023/01/DGI-Logo.png
END:VEVENT
BEGIN:VEVENT
DTSTART;VALUE=DATE:20270331
DTEND;VALUE=DATE:20270401
DTSTAMP:20260424T071228
CREATED:20230101T140035Z
LAST-MODIFIED:20260405T144325Z
UID:3753-1806451200-1806537599@cpaservicespanama.com
SUMMARY:Impuesto de Aviso de Operación
DESCRIPTION:DESCRIPCIÓN: \nPago del impuesto de aviso de operación (licencia comercial)\, generado por la presentación de la Declaración de Renta Anual tanto para personas naturales como jurídicas\, con o sin extensión. \nACCIÓN: \nPagar.
URL:https://cpaservicespanama.com/event/impuesto-de-aviso-de-operacion/
CATEGORIES:Dirección General de Ingresos (DGI)
ATTACH;FMTTYPE=image/png:https://cpaservicespanama.com/wp-content/uploads/2023/01/DGI-Logo.png
END:VEVENT
BEGIN:VEVENT
DTSTART;VALUE=DATE:20270331
DTEND;VALUE=DATE:20270401
DTSTAMP:20260424T071228
CREATED:20230101T140037Z
LAST-MODIFIED:20260405T144140Z
UID:3652-1806451200-1806537599@cpaservicespanama.com
SUMMARY:Informe F-43 (Compras)
DESCRIPTION:DESCRIPCIÓN: \nDeclaración de las compras realizadas en el mes anterior. Aplica para los contribuyentes que reúnan las condiciones para presentar el Informe de Compras. \nACCIÓN: \nDeclarar.
URL:https://cpaservicespanama.com/event/informe-f43-compras-03/
CATEGORIES:Dirección General de Ingresos (DGI)
ATTACH;FMTTYPE=image/png:https://cpaservicespanama.com/wp-content/uploads/2023/01/DGI-Logo.png
END:VEVENT
BEGIN:VEVENT
DTSTART;VALUE=DATE:20270331
DTEND;VALUE=DATE:20270401
DTSTAMP:20260424T071228
CREATED:20230101T140041Z
LAST-MODIFIED:20260405T144242Z
UID:3746-1806451200-1806537599@cpaservicespanama.com
SUMMARY:Declaración de Renta Jurídica Anual
DESCRIPTION:DESCRIPCIÓN: \nDeclaración de renta correspondiente al año anterior para personas jurídicas. \nACCIÓN: \nDeclarar.
URL:https://cpaservicespanama.com/event/declaracion-de-renta-juridica-anual-01/
CATEGORIES:Dirección General de Ingresos (DGI)
ATTACH;FMTTYPE=image/png:https://cpaservicespanama.com/wp-content/uploads/2023/01/DGI-Logo.png
END:VEVENT
BEGIN:VEVENT
DTSTART;VALUE=DATE:20270331
DTEND;VALUE=DATE:20270401
DTSTAMP:20260424T071228
CREATED:20230101T140043Z
LAST-MODIFIED:20260405T144205Z
UID:3676-1806451200-1806537599@cpaservicespanama.com
SUMMARY:Informe F-1027 (Ventas y Servicios)
DESCRIPTION:DESCRIPCIÓN: \nDeclaración de las ventas y los servicios realizados en el mes anterior. Aplica para los contribuyentes que reúnan las condiciones para presentar el Informe de Ventas. \nACCIÓN: \nDeclarar.
URL:https://cpaservicespanama.com/event/informe-f1027-ventas-y-servicios-03/
CATEGORIES:Dirección General de Ingresos (DGI)
ATTACH;FMTTYPE=image/png:https://cpaservicespanama.com/wp-content/uploads/2023/01/DGI-Logo.png
END:VEVENT
BEGIN:VEVENT
DTSTART;VALUE=DATE:20270331
DTEND;VALUE=DATE:20270401
DTSTAMP:20260424T071228
CREATED:20230101T140052Z
LAST-MODIFIED:20260405T144307Z
UID:3750-1806451200-1806537599@cpaservicespanama.com
SUMMARY:Impuesto sobre la Renta Natural y/o Jurídica
DESCRIPTION:DESCRIPCIÓN: \nPago del impuesto sobre la renta generado por la presentación de la Declaración de Renta Anual tanto para personas naturales como jurídicas\, con o sin extensión. \nACCIÓN: \nPagar.
URL:https://cpaservicespanama.com/event/impuesto-sobre-la-renta-natural-y-o-juridica/
CATEGORIES:Dirección General de Ingresos (DGI)
ATTACH;FMTTYPE=image/png:https://cpaservicespanama.com/wp-content/uploads/2023/01/DGI-Logo.png
END:VEVENT
END:VCALENDAR