BEGIN:VCALENDAR
VERSION:2.0
PRODID:-//CPAServicesPanamá - ECPv6.15.20//NONSGML v1.0//EN
CALSCALE:GREGORIAN
METHOD:PUBLISH
X-WR-CALNAME:CPAServicesPanamá
X-ORIGINAL-URL:https://cpaservicespanama.com
X-WR-CALDESC:Eventos para CPAServicesPanamá
REFRESH-INTERVAL;VALUE=DURATION:PT1H
X-Robots-Tag:noindex
X-PUBLISHED-TTL:PT1H
BEGIN:VTIMEZONE
TZID:America/Panama
BEGIN:STANDARD
TZOFFSETFROM:-0500
TZOFFSETTO:-0500
TZNAME:EST
DTSTART:20250101T000000
END:STANDARD
END:VTIMEZONE
BEGIN:VEVENT
DTSTART;VALUE=DATE:20260630
DTEND;VALUE=DATE:20260701
DTSTAMP:20260423T145715
CREATED:20230101T140016Z
LAST-MODIFIED:20250709T171319Z
UID:3765-1782777600-1782863999@cpaservicespanama.com
SUMMARY:Impuesto sobre la Renta Estimada (I cuota)
DESCRIPTION:DESCRIPCIÓN: \nPago del impuesto sobre la renta estimada\, generado por la presentación de la Declaración de Renta Anual\, tanto para personas naturales como jurídicas. \nACCIÓN: \nPagar.
URL:https://cpaservicespanama.com/event/impuesto-sobre-la-renta-estimada-01/
CATEGORIES:Dirección General de Ingresos (DGI)
ATTACH;FMTTYPE=image/png:https://cpaservicespanama.com/wp-content/uploads/2023/01/DGI-Logo.png
END:VEVENT
BEGIN:VEVENT
DTSTART;VALUE=DATE:20260630
DTEND;VALUE=DATE:20260701
DTSTAMP:20260423T145715
CREATED:20230101T140008Z
LAST-MODIFIED:20250709T171301Z
UID:3727-1782777600-1782863999@cpaservicespanama.com
SUMMARY:Informe de Contribuyentes No Declarantes
DESCRIPTION:DESCRIPCIÓN: \nDeclaración mensual de las obligaciones tributarias que aplican a los contribuyentes no declarantes. \nACCIÓN: \nDeclarar.
URL:https://cpaservicespanama.com/event/informe-de-contribuyentes-no-declarantes-06/
CATEGORIES:Dirección General de Ingresos (DGI)
ATTACH;FMTTYPE=image/png:https://cpaservicespanama.com/wp-content/uploads/2023/01/DGI-Logo.png
END:VEVENT
BEGIN:VEVENT
DTSTART;VALUE=DATE:20260630
DTEND;VALUE=DATE:20260701
DTSTAMP:20260423T145715
CREATED:20230101T140020Z
LAST-MODIFIED:20250709T171429Z
UID:3822-1782777600-1782863999@cpaservicespanama.com
SUMMARY:Planilla (mensual)
DESCRIPTION:DESCRIPCIÓN: \nDeclaración y pago del reporte de la planilla del mes anterior en el Sistema SIPE. Pago Obrero-Patronal. \nACCIÓN: \nDeclarar y pagar.
URL:https://cpaservicespanama.com/event/planilla-mensual-06/
CATEGORIES:Caja de Seguro Social (CSS)
ATTACH;FMTTYPE=image/png:https://cpaservicespanama.com/wp-content/uploads/2023/01/CSS-Logo.png
END:VEVENT
BEGIN:VEVENT
DTSTART;VALUE=DATE:20260630
DTEND;VALUE=DATE:20260701
DTSTAMP:20260423T145715
CREATED:20230101T140032Z
LAST-MODIFIED:20250709T171447Z
UID:3631-1782777600-1782863999@cpaservicespanama.com
SUMMARY:Informe F-03 (Planilla)
DESCRIPTION:DESCRIPCIÓN: \nDeclaración de información de la planilla reportada a la CSS del tercer mes anterior. Aplica para los contribuyentes que sean patronos de la CSS. \nACCIÓN: \nDeclarar.
URL:https://cpaservicespanama.com/event/informe-f03-planilla-06/
CATEGORIES:Dirección General de Ingresos (DGI)
ATTACH;FMTTYPE=image/png:https://cpaservicespanama.com/wp-content/uploads/2023/01/DGI-Logo.png
END:VEVENT
BEGIN:VEVENT
DTSTART;VALUE=DATE:20260630
DTEND;VALUE=DATE:20260701
DTSTAMP:20260423T145715
CREATED:20230101T140033Z
LAST-MODIFIED:20250709T171508Z
UID:3792-1782777600-1782863999@cpaservicespanama.com
SUMMARY:Impuesto Actividad Comercial (mensual)
DESCRIPTION:DESCRIPCIÓN: \nPago del impuesto mensual de tributos por actividad comercial. \nACCIÓN: \nPagar.
URL:https://cpaservicespanama.com/event/impuesto-actividad-comercial-mensual-06/
CATEGORIES:Municipio de Panamá (MUPA)
ATTACH;FMTTYPE=image/png:https://cpaservicespanama.com/wp-content/uploads/2023/01/MUPA-Logo.png
END:VEVENT
BEGIN:VEVENT
DTSTART;VALUE=DATE:20260630
DTEND;VALUE=DATE:20260701
DTSTAMP:20260423T145715
CREATED:20230101T140041Z
LAST-MODIFIED:20250709T171731Z
UID:3655-1782777600-1782863999@cpaservicespanama.com
SUMMARY:Informe F-43 (Compras)
DESCRIPTION:DESCRIPCIÓN: \nDeclaración de las compras realizadas en el mes anterior. Aplica para los contribuyentes que reúnan las condiciones para presentar el Informe de Compras. \nACCIÓN: \nDeclarar.
URL:https://cpaservicespanama.com/event/informe-f43-compras-06/
CATEGORIES:Dirección General de Ingresos (DGI)
ATTACH;FMTTYPE=image/png:https://cpaservicespanama.com/wp-content/uploads/2023/01/DGI-Logo.png
END:VEVENT
BEGIN:VEVENT
DTSTART;VALUE=DATE:20260630
DTEND;VALUE=DATE:20260701
DTSTAMP:20260423T145715
CREATED:20230101T140045Z
LAST-MODIFIED:20250709T171806Z
UID:3771-1782777600-1782863999@cpaservicespanama.com
SUMMARY:Impuesto Seguro Educativo (I cuota)
DESCRIPTION:DESCRIPCIÓN: \nPago del impuesto del seguro educativo\, generado por la presentación de la Declaración de Renta Anual para personas naturales. \nACCIÓN: \nPagar.
URL:https://cpaservicespanama.com/event/impuesto-seguro-educativo-01/
CATEGORIES:Dirección General de Ingresos (DGI)
ATTACH;FMTTYPE=image/png:https://cpaservicespanama.com/wp-content/uploads/2023/01/DGI-Logo.png
END:VEVENT
BEGIN:VEVENT
DTSTART;VALUE=DATE:20260630
DTEND;VALUE=DATE:20260701
DTSTAMP:20260423T145715
CREATED:20230101T140046Z
LAST-MODIFIED:20250709T171828Z
UID:3679-1782777600-1782863999@cpaservicespanama.com
SUMMARY:Informe F-1027 (Ventas y Servicios)
DESCRIPTION:DESCRIPCIÓN: \nDeclaración de las ventas y los servicios realizados en el mes anterior. Aplica para los contribuyentes que reúnan las condiciones para presentar el Informe de Ventas. \nACCIÓN: \nDeclarar.
URL:https://cpaservicespanama.com/event/informe-f1027-ventas-y-servicios-06/
CATEGORIES:Dirección General de Ingresos (DGI)
ATTACH;FMTTYPE=image/png:https://cpaservicespanama.com/wp-content/uploads/2023/01/DGI-Logo.png
END:VEVENT
END:VCALENDAR