BEGIN:VCALENDAR
VERSION:2.0
PRODID:-//CPAServicesPanamá - ECPv6.15.20//NONSGML v1.0//EN
CALSCALE:GREGORIAN
METHOD:PUBLISH
X-WR-CALNAME:CPAServicesPanamá
X-ORIGINAL-URL:https://cpaservicespanama.com
X-WR-CALDESC:Eventos para CPAServicesPanamá
REFRESH-INTERVAL;VALUE=DURATION:PT1H
X-Robots-Tag:noindex
X-PUBLISHED-TTL:PT1H
BEGIN:VTIMEZONE
TZID:America/Panama
BEGIN:STANDARD
TZOFFSETFROM:-0500
TZOFFSETTO:-0500
TZNAME:EST
DTSTART:20250101T000000
END:STANDARD
END:VTIMEZONE
BEGIN:VEVENT
DTSTART;VALUE=DATE:20260515
DTEND;VALUE=DATE:20260516
DTSTAMP:20260423T131802
CREATED:20230101T140028Z
LAST-MODIFIED:20250709T170506Z
UID:3543-1778803200-1778889599@cpaservicespanama.com
SUMMARY:I.T.B.M.S. (mensual)
DESCRIPTION:DESCRIPCIÓN: \nDeclaración y pago de los ingresos y compras del mes anterior de los contribuyentes de ITBMS. Pago del impuesto neto. \nACCIÓN: \nDeclarar y pagar.
URL:https://cpaservicespanama.com/event/itbms-mensual-05/
CATEGORIES:Dirección General de Ingresos (DGI)
ATTACH;FMTTYPE=image/png:https://cpaservicespanama.com/wp-content/uploads/2023/01/DGI-Logo.png
END:VEVENT
BEGIN:VEVENT
DTSTART;VALUE=DATE:20260515
DTEND;VALUE=DATE:20260516
DTSTAMP:20260423T131802
CREATED:20230101T140039Z
LAST-MODIFIED:20250709T170533Z
UID:3593-1778803200-1778889599@cpaservicespanama.com
SUMMARY:Timbres
DESCRIPTION:DESCRIPCIÓN: \nDeclaración y pago de los ingresos del mes anterior\, no gravados con ITBMS. \nACCIÓN: \nDeclarar y pagar.
URL:https://cpaservicespanama.com/event/timbres-05/
CATEGORIES:Dirección General de Ingresos (DGI)
ATTACH;FMTTYPE=image/png:https://cpaservicespanama.com/wp-content/uploads/2023/01/DGI-Logo.png
END:VEVENT
END:VCALENDAR