BEGIN:VCALENDAR
VERSION:2.0
PRODID:-//CPAServicesPanamá - ECPv6.15.20//NONSGML v1.0//EN
CALSCALE:GREGORIAN
METHOD:PUBLISH
X-WR-CALNAME:CPAServicesPanamá
X-ORIGINAL-URL:https://cpaservicespanama.com
X-WR-CALDESC:Eventos para CPAServicesPanamá
REFRESH-INTERVAL;VALUE=DURATION:PT1H
X-Robots-Tag:noindex
X-PUBLISHED-TTL:PT1H
BEGIN:VTIMEZONE
TZID:America/Panama
BEGIN:STANDARD
TZOFFSETFROM:-0500
TZOFFSETTO:-0500
TZNAME:EST
DTSTART:20250101T000000
END:STANDARD
END:VTIMEZONE
BEGIN:VEVENT
DTSTART;VALUE=DATE:20260415
DTEND;VALUE=DATE:20260416
DTSTAMP:20260423T131725
CREATED:20230101T140020Z
LAST-MODIFIED:20250709T165533Z
UID:3618-1776211200-1776297599@cpaservicespanama.com
SUMMARY:Declaración de Renta Natural Anual (extensión)
DESCRIPTION:DESCRIPCIÓN: \nDeclaración de renta correspondiente al año anterior para personas naturales. Con solicitud de extensión. \nACCIÓN: \nDeclarar.
URL:https://cpaservicespanama.com/event/declaracion-de-renta-natural-anual-01a/
CATEGORIES:Dirección General de Ingresos (DGI)
ATTACH;FMTTYPE=image/png:https://cpaservicespanama.com/wp-content/uploads/2023/01/DGI-Logo.png
END:VEVENT
BEGIN:VEVENT
DTSTART;VALUE=DATE:20260415
DTEND;VALUE=DATE:20260416
DTSTAMP:20260423T131725
CREATED:20230101T140022Z
LAST-MODIFIED:20250709T165559Z
UID:3583-1776211200-1776297599@cpaservicespanama.com
SUMMARY:I.T.B.M.S. (I trimestre)
DESCRIPTION:DESCRIPCIÓN: \nDeclaración y pago de los ingresos y compras de los tres meses anteriores de los contribuyentes de ITBMS. Pago del impuesto neto. \nACCIÓN: \nDeclarar y pagar.
URL:https://cpaservicespanama.com/event/itbms-trimestral-01/
CATEGORIES:Dirección General de Ingresos (DGI)
ATTACH;FMTTYPE=image/png:https://cpaservicespanama.com/wp-content/uploads/2023/01/DGI-Logo.png
END:VEVENT
BEGIN:VEVENT
DTSTART;VALUE=DATE:20260415
DTEND;VALUE=DATE:20260416
DTSTAMP:20260423T131725
CREATED:20230101T140038Z
LAST-MODIFIED:20250709T165625Z
UID:3592-1776211200-1776297599@cpaservicespanama.com
SUMMARY:Timbres
DESCRIPTION:DESCRIPCIÓN: \nDeclaración y pago de los ingresos del mes anterior\, no gravados con ITBMS. \nACCIÓN: \nDeclarar y pagar.
URL:https://cpaservicespanama.com/event/timbres-04/
CATEGORIES:Dirección General de Ingresos (DGI)
ATTACH;FMTTYPE=image/png:https://cpaservicespanama.com/wp-content/uploads/2023/01/DGI-Logo.png
END:VEVENT
BEGIN:VEVENT
DTSTART;VALUE=DATE:20260415
DTEND;VALUE=DATE:20260416
DTSTAMP:20260423T131725
CREATED:20230101T140040Z
LAST-MODIFIED:20250709T165644Z
UID:3541-1776211200-1776297599@cpaservicespanama.com
SUMMARY:I.T.B.M.S. (mensual)
DESCRIPTION:DESCRIPCIÓN: \nDeclaración y pago de los ingresos y compras del mes anterior de los contribuyentes de ITBMS. Pago del impuesto neto. \nACCIÓN: \nDeclarar y pagar.
URL:https://cpaservicespanama.com/event/itbms-mensual-04/
CATEGORIES:Dirección General de Ingresos (DGI)
ATTACH;FMTTYPE=image/png:https://cpaservicespanama.com/wp-content/uploads/2023/01/DGI-Logo.png
END:VEVENT
END:VCALENDAR